BEGIN:VCALENDAR
VERSION:2.0
PRODID:-//eventon.com NONSGML v1.0//EN
CALSCALE:GREGORIAN
METHOD:PUBLISH
BEGIN:VEVENT
UID:69e5e9fd98eaa
DTSTAMP:20260420T085525Z
DTSTART:20190319T190000Z
DTEND:20190319T225000Z
LOCATION:Halle Tony-Garnier 20 pl. Charles et Christophe Mérieux 69363 Lyon
SUMMARY:Eros Ramazzotti
DESCRIPTION:C’est une des voix les plus connues d’Italie : Eros Ramazz
 otti\,  l’artiste aux plus de 55 millions d’albums vendus est de retour
  pour trois concerts exceptionnels en France. La star italienne interprét
 era ses plus grands succès comme « Se bastasse una canzone » et « Piu&r
 squo; Bella Cosa » et des chansons[..]\nhttps://www.eldorado.fr/events/ero
 s-ramazzotti/
URL:https://www.eldorado.fr/events/eros-ramazzotti/
END:VEVENT
END:VCALENDAR