BEGIN:VCALENDAR
VERSION:2.0
PRODID:-//eventon.com NONSGML v1.0//EN
CALSCALE:GREGORIAN
METHOD:PUBLISH
BEGIN:VEVENT
UID:69e5e6a3e3591
DTSTAMP:20260420T084107Z
DTSTART:20190512T150000Z
DTEND:20190512T215000Z
LOCATION:Zénith de Saint-Étienne Rue Scheurer Kestner 42000 Saint Etienne
SUMMARY:Kendji Girac "Amigo Tour"
DESCRIPTION:Kendji Girac reprend la route&#8230; et la scène. Forcément. 
 C&rsquo;est là où l&rsquo;artiste se sent le mieux. A seulement 21 ans\, 
  le virtuose de la guitare gypsie embarque déjà son public dans une trois
 ième tournée\,  l&rsquo; « Amigo tour » qui va sillonner toute la Franc
 e. « C&rsquo;est en live[..]\nhttps://www.eldorado.fr/events/2019-mai-le-z
 enith-saint-etienne-kendji-girac-amigo-tour/
URL:https://www.eldorado.fr/events/2019-mai-le-zenith-saint-etienne-kendji-girac-amigo-tour/
END:VEVENT
END:VCALENDAR