BEGIN:VCALENDAR
VERSION:2.0
PRODID:-//eventon.com NONSGML v1.0//EN
CALSCALE:GREGORIAN
METHOD:PUBLISH
BEGIN:VEVENT
UID:69eba9901c001
DTSTAMP:20260424T173408Z
DTSTART:20191112T190000Z
DTEND:20191112T225000Z
LOCATION:Le Transbordeur 3 boulevard Stalingrad 69100 Villeurbanne
SUMMARY:Paul Personne
DESCRIPTION:« L&rsquo;homme à la Gibson » comme on le nomme\,  est de 
 retour ! Guitariste de génie\,  reconnu par les plus grands\,   PAUL PERS
 ONNE a su cultiver sa différence : celle de sa voix chaude mêlée aux gui
 tares. Si l&rsquo;étiquette de bluesman lui colle à la peau\,  il est aus
 si un mélodiste[..]\nhttps://www.eldorado.fr/events/2019-novembre-le-trans
 bordeur-paul-personne/
URL:https://www.eldorado.fr/events/2019-novembre-le-transbordeur-paul-personne/
END:VEVENT
END:VCALENDAR