BEGIN:VCALENDAR
VERSION:2.0
PRODID:-//eventon.com NONSGML v1.0//EN
CALSCALE:GREGORIAN
METHOD:PUBLISH
BEGIN:VEVENT
UID:69e6197b7681b
DTSTAMP:20260420T121803Z
DTSTART:20230627T180000Z
DTEND:20230627T215000Z
LOCATION:Halle Tony-Garnier 20 pl. Charles et Christophe Mérieux 69363 Lyon
SUMMARY:Kiss
DESCRIPTION:KISS : The End of the Road World Tour s&rsquo;invite à Lyon ! 
 « Un show incandescent et survolté\,  qui ne laisse pas une seconde de r
 épit au public&#8230; » &#8211; Le Progrès « Dans un incroyable délu
 ge de pyrotechnie et d’explosions apparaissent à 20 m du sol les quatre
  musiciens du groupe américain\, [..]\nhttps://www.eldorado.fr/events/2023
 -juin-lyon-halle-tony-garnier-kiss/
URL:https://www.eldorado.fr/events/2023-juin-lyon-halle-tony-garnier-kiss/
END:VEVENT
END:VCALENDAR