BEGIN:VCALENDAR
VERSION:2.0
PRODID:-//eventon.com NONSGML v1.0//EN
CALSCALE:GREGORIAN
METHOD:PUBLISH
BEGIN:VEVENT
UID:69e5e438d6661
DTSTAMP:20260420T083048Z
DTSTART:20241204T190000Z
DTEND:20241204T225900Z
LOCATION:L'Amphithéâtre 3000 • Centre de Congrès de Lyon 50\,  Quai Charles de Gaulle 69006 Lyon
SUMMARY:The Very Best Of John Williams
DESCRIPTION:John Williams est le géant incontesté de la musique de film. 
 Avec plus de 100 nominations dans le monde\,  il est la deuxième personne 
 la plus nommée aux Oscars derrière Walt Disney. Le compositeur âgé de 8
 7 ans n’est autre que l’auteur des plus célèbres bandes-originales de
  films : Star[..]\nhttps://www.eldorado.fr/events/2024-decembre-lyon-amphit
 heatre-3000-the-very-best-of-john-williams/
URL:https://www.eldorado.fr/events/2024-decembre-lyon-amphitheatre-3000-the-very-best-of-john-williams/
END:VEVENT
END:VCALENDAR