BEGIN:VCALENDAR
VERSION:2.0
PRODID:-//eventon.com NONSGML v1.0//EN
CALSCALE:GREGORIAN
METHOD:PUBLISH
BEGIN:VEVENT
UID:69e4ce7715b53
DTSTAMP:20260419T124543Z
DTSTART:20251210T190000Z
DTEND:20251210T225900Z
LOCATION:LDLC Arena 5 Av. Simone Veil\,  69150 DÃ©cines-Charpieu
SUMMARY:Gojira
DESCRIPTION:Gojira\,  le phÃ©nomÃ¨ne metal\,  qui a obtenu une reconnaissan
 ce Ã  lâ€™international en jouant dans les plus grands festivals et scÃ¨nes
  du monde\,  revient en France pour une tournÃ©e exceptionnelle. AprÃ¨s leu
 r passage mÃ©morable et internationalement saluÃ© lors de la cÃ©rÃ©monie dâ
 €™ouverture des Jeux Olympiques de Paris 2024\,  le groupe landais[..]\nhtt
 ps://www.eldorado.fr/events/2025-decembre-lyon-ldlc-arena-gojira/
URL:https://www.eldorado.fr/events/2025-decembre-lyon-ldlc-arena-gojira/
END:VEVENT
END:VCALENDAR