BEGIN:VCALENDAR
VERSION:2.0
PRODID:-//eventon.com NONSGML v1.0//EN
CALSCALE:GREGORIAN
METHOD:PUBLISH
BEGIN:VEVENT
UID:69ece41577fcb
DTSTAMP:20260425T155605Z
DTSTART:20260107T190000Z
DTEND:20260107T225900Z
LOCATION:La Bourse du Travail  205\,  Place Guichard 69003 Lyon
SUMMARY:Laurent Gerra se met Ã  table !
DESCRIPTION:ServiceÂ ! Quand LaurentÂ GerraÂ passe Ã  table\,  on sait dâ€™
 avance que ce sera mitonnÃ©. CertainsÂ ne manqueront pas dâ€™ÃªtreÂ bienÂ a
 ssaisonnÃ©s\, Â quandÂ dâ€™autres seront servis aux petits oignonsâ€¦ Nouve
 lle carte et plats signatures\,  il y en aura pour tous les goÃ»ts : politi
 ques\,  chanson\,  tÃ©lÃ©vision et cinÃ©ma\,  toutes ses cibles passeront Ã
   la casserole\,  mÃªme les vegans[..]\nhttps://www.eldorado.fr/events/2026
 -janvier-lyon-bourse-du-travail-laurent-gerra-se-met-a-table/
URL:https://www.eldorado.fr/events/2026-janvier-lyon-bourse-du-travail-laurent-gerra-se-met-a-table/
END:VEVENT
END:VCALENDAR