BEGIN:VCALENDAR
VERSION:2.0
PRODID:-//eventon.com NONSGML v1.0//EN
CALSCALE:GREGORIAN
METHOD:PUBLISH
BEGIN:VEVENT
UID:69e5e409244f9
DTSTAMP:20260420T083001Z
DTSTART:20260315T150000Z
DTEND:20260315T225900Z
LOCATION:La Bourse du Travail  205\,  Place Guichard 69003 Lyon
SUMMARY:Tony Carreira • Tour Tempo
DESCRIPTION:Après avoir rempli\,  pour la 27ᵉ fois\,  la plus grande sal
 le de spectacle au Portugal avec deux concerts d’une production inégalab
 le\,  où le TEMPS a donné le rythme\,  Tony Carreira s’apprête à parc
 ourir le pays avec un nouveau spectacle où passé et futur se croisent. Lo
 rs de la TOUR TEMPO\, [..]\nhttps://www.eldorado.fr/events/2026-mars-lyon-b
 ourse-du-travail-tony-carreira/
URL:https://www.eldorado.fr/events/2026-mars-lyon-bourse-du-travail-tony-carreira/
END:VEVENT
END:VCALENDAR