BEGIN:VCALENDAR
VERSION:2.0
PRODID:-//eventon.com NONSGML v1.0//EN
CALSCALE:GREGORIAN
METHOD:PUBLISH
BEGIN:VEVENT
UID:69e739b5bbb8b
DTSTAMP:20260421T084749Z
DTSTART:20260331T183000Z
DTEND:20260331T215900Z
LOCATION:Le Transbordeur 3 boulevard Stalingrad 69100 Villeurbanne
SUMMARY:Lusaint • Apothecary Tour
DESCRIPTION:Originaire de Manchester\,  Lusaint est incontestablement l’u
 ne des plus belles sensations vocales de ces dernières années. Avec ses m
 élodies jazz/soul et un timbre de voix teinté du charme des grandes voix 
 des années 60\,  elle impose un univers singulier. Portée par le succès 
 de son premier EP Self Sabotage\,  Lusaint[..]\nhttps://www.eldorado.fr/eve
 nts/2026-mars-lyon-transbordeur-lusaint/
URL:https://www.eldorado.fr/events/2026-mars-lyon-transbordeur-lusaint/
END:VEVENT
END:VCALENDAR