BEGIN:VCALENDAR
VERSION:2.0
PRODID:-//eventon.com NONSGML v1.0//EN
CALSCALE:GREGORIAN
METHOD:PUBLISH
BEGIN:VEVENT
UID:69e5e292891a7
DTSTAMP:20260420T082346Z
DTSTART:20260625T180000Z
DTEND:20260625T215900Z
LOCATION:L'Amphithéâtre 3000 • Centre de Congrès de Lyon 50\,  Quai Charles de Gaulle 69006 Lyon
SUMMARY:Nile Rodgers & Chic
DESCRIPTION:Icône mondiale\,  Nile Rodgers a façonné le son de la pop\, 
  du disco et de la funk depuis plus de quatre décennies. Compositeur\,  pr
 oducteur\,  arrangeur et guitariste au groove inimitable\,  il a été hono
 ré par le Rock &amp; Roll Hall of Fame\,  le Songwriters Hall of Fame et u
 n Grammy[..]\nhttps://www.eldorado.fr/events/2026-juin-lyon-amphitheatre-30
 00-nile-rodgers-chic/
URL:https://www.eldorado.fr/events/2026-juin-lyon-amphitheatre-3000-nile-rodgers-chic/
END:VEVENT
END:VCALENDAR